BEGIN:VCALENDAR
VERSION:2.0
PRODID:-//BC Live Performance Network - ECPv6.15.20//NONSGML v1.0//EN
CALSCALE:GREGORIAN
METHOD:PUBLISH
X-WR-CALNAME:BC Live Performance Network
X-ORIGINAL-URL:https://bclive.ca
X-WR-CALDESC:Events for BC Live Performance Network
REFRESH-INTERVAL;VALUE=DURATION:PT1H
X-Robots-Tag:noindex
X-PUBLISHED-TTL:PT1H
BEGIN:VTIMEZONE
TZID:America/Vancouver
BEGIN:DAYLIGHT
TZOFFSETFROM:-0800
TZOFFSETTO:-0700
TZNAME:PDT
DTSTART:20240310T100000
END:DAYLIGHT
BEGIN:STANDARD
TZOFFSETFROM:-0700
TZOFFSETTO:-0800
TZNAME:PST
DTSTART:20241103T090000
END:STANDARD
BEGIN:DAYLIGHT
TZOFFSETFROM:-0800
TZOFFSETTO:-0700
TZNAME:PDT
DTSTART:20250309T100000
END:DAYLIGHT
BEGIN:STANDARD
TZOFFSETFROM:-0700
TZOFFSETTO:-0800
TZNAME:PST
DTSTART:20251102T090000
END:STANDARD
BEGIN:DAYLIGHT
TZOFFSETFROM:-0800
TZOFFSETTO:-0700
TZNAME:PDT
DTSTART:20260308T100000
END:DAYLIGHT
BEGIN:STANDARD
TZOFFSETFROM:-0700
TZOFFSETTO:-0800
TZNAME:PST
DTSTART:20261101T090000
END:STANDARD
BEGIN:DAYLIGHT
TZOFFSETFROM:-0800
TZOFFSETTO:-0700
TZNAME:PDT
DTSTART:20270314T100000
END:DAYLIGHT
BEGIN:STANDARD
TZOFFSETFROM:-0700
TZOFFSETTO:-0800
TZNAME:PST
DTSTART:20271107T090000
END:STANDARD
END:VTIMEZONE
BEGIN:VEVENT
DTSTART;TZID=America/Vancouver:20250507T120000
DTEND;TZID=America/Vancouver:20250507T130000
DTSTAMP:20260421T112022
CREATED:20250428T184953Z
LAST-MODIFIED:20250428T195226Z
UID:10000051-1746619200-1746622800@bclive.ca
SUMMARY:Funding Programs: Information Session
DESCRIPTION:We invite you to RSVP to attend an information session on Zoom about Community Presenters Assistance and Into the Act programs for 2025-2026. You’ll learn about changes to this year’s programs and have an opportunity to ask questions. The sessions will be recorded and available upon request. \nDate: Wednesday\, May 7\nTime: Noon to 1:00 pm (PT)\nRegister here on Zoom \n 
URL:https://bclive.ca/event/funding-programs-information-session/
CATEGORIES:Funding Programs
ATTACH;FMTTYPE=image/jpeg:https://bclive.ca/wp-content/uploads/2025/04/fundinglogo.jpg
ORGANIZER;CN="BC Live":MAILTO:admin@bclive.ca
END:VEVENT
BEGIN:VEVENT
DTSTART;TZID=America/Vancouver:20250604T120000
DTEND;TZID=America/Vancouver:20250604T130000
DTSTAMP:20260421T112022
CREATED:20250428T195045Z
LAST-MODIFIED:20250429T155925Z
UID:10000052-1749038400-1749042000@bclive.ca
SUMMARY:Funding Programs Information Session
DESCRIPTION:We invite you to RSVP to attend an information session about Community Presenters Assistance and Into the Act programs for 2025-2026. You’ll learn about changes to this year’s programs and have an opportunity to ask questions. The session will be recorded and available upon request. \nDate: Wednesday\, June 4\nTime: Noon to 1:00 pm (PT)\nRegister here on Zoom
URL:https://bclive.ca/event/fundinginfojune42025/
CATEGORIES:Funding Programs
ATTACH;FMTTYPE=image/jpeg:https://bclive.ca/wp-content/uploads/2025/04/fundinglogo.jpg
ORGANIZER;CN="BC Live":MAILTO:admin@bclive.ca
END:VEVENT
BEGIN:VEVENT
DTSTART;TZID=America/Vancouver:20260423T123000
DTEND;TZID=America/Vancouver:20260423T140000
DTSTAMP:20260421T112022
CREATED:20260306T175137Z
LAST-MODIFIED:20260306T175137Z
UID:10000084-1776947400-1776952800@bclive.ca
SUMMARY:Funding Programs: Information Session
DESCRIPTION:You are invited to RSVP for an information session on the 2026-2027 Community Presenters Assistance and Into the Act programs. Both programs will be launched in early April. \nJoin BC Live’s Program Manager to learn about program updates and resources\, review the new online application forms and sample applications\, and ask questions. The session will be recorded\, and recordings will be available upon request. \nAgenda\n12:30 pm to 1:15 pm (PT) – Community Presenters Assistance Program\n1:20 pm to 2:00 pm (PT) – Into the Act Program \nRegister at the link below.
URL:https://bclive.ca/event/funding-programs-information-session-3/
CATEGORIES:Funding Programs
ATTACH;FMTTYPE=image/jpeg:https://bclive.ca/wp-content/uploads/2026/03/Funding-Programs-banners-700-x-500-px.jpg
ORGANIZER;CN="BC Live":MAILTO:admin@bclive.ca
LOCATION:https://us02web.zoom.us/meeting/register/uFDni5g9ROuB4orMtYz2rA
END:VEVENT
BEGIN:VEVENT
DTSTART;TZID=America/Vancouver:20260513T100000
DTEND;TZID=America/Vancouver:20260513T113000
DTSTAMP:20260421T112022
CREATED:20260306T174946Z
LAST-MODIFIED:20260306T174946Z
UID:10000085-1778666400-1778671800@bclive.ca
SUMMARY:Funding Programs: Information Session
DESCRIPTION:You are invited to RSVP for an information session on the 2026-2027 Community Presenters Assistance and Into the Act programs. Both programs will be launched in early April. The session will be hosted on Zoom. \nJoin BC Live’s Program Manager to learn about program updates and resources\, review the new online application forms and sample applications\, and ask questions. The session will be recorded\, and recordings will be available upon request. \nAgenda\n10:00 am to 10:45 am (PT)- Community Presenters Assistance Program\n10:50 am to 11:30 am (PT) – Into the Act Program \nRegister at the link below.
URL:https://bclive.ca/event/funding-programs-information-session-2/
CATEGORIES:Funding Programs
ATTACH;FMTTYPE=image/jpeg:https://bclive.ca/wp-content/uploads/2026/03/Funding-Programs-banners-700-x-500-px.jpg
ORGANIZER;CN="BC Live":MAILTO:admin@bclive.ca
LOCATION:https://us02web.zoom.us/meeting/register/pKb9ho4xTiq4mY7FdDq4Ew
END:VEVENT
END:VCALENDAR