BEGIN:VCALENDAR
VERSION:2.0
PRODID:-//BC Live Performance Network - ECPv6.15.20//NONSGML v1.0//EN
CALSCALE:GREGORIAN
METHOD:PUBLISH
X-ORIGINAL-URL:https://bclive.ca
X-WR-CALDESC:Events for BC Live Performance Network
REFRESH-INTERVAL;VALUE=DURATION:PT1H
X-Robots-Tag:noindex
X-PUBLISHED-TTL:PT1H
BEGIN:VTIMEZONE
TZID:America/Vancouver
BEGIN:DAYLIGHT
TZOFFSETFROM:-0800
TZOFFSETTO:-0700
TZNAME:PDT
DTSTART:20240310T100000
END:DAYLIGHT
BEGIN:STANDARD
TZOFFSETFROM:-0700
TZOFFSETTO:-0800
TZNAME:PST
DTSTART:20241103T090000
END:STANDARD
BEGIN:DAYLIGHT
TZOFFSETFROM:-0800
TZOFFSETTO:-0700
TZNAME:PDT
DTSTART:20250309T100000
END:DAYLIGHT
BEGIN:STANDARD
TZOFFSETFROM:-0700
TZOFFSETTO:-0800
TZNAME:PST
DTSTART:20251102T090000
END:STANDARD
BEGIN:DAYLIGHT
TZOFFSETFROM:-0800
TZOFFSETTO:-0700
TZNAME:PDT
DTSTART:20260308T100000
END:DAYLIGHT
BEGIN:STANDARD
TZOFFSETFROM:-0700
TZOFFSETTO:-0800
TZNAME:PST
DTSTART:20261101T090000
END:STANDARD
END:VTIMEZONE
BEGIN:VEVENT
DTSTART;TZID=America/Vancouver:20250129T133000
DTEND;TZID=America/Vancouver:20250129T160000
DTSTAMP:20260421T065517
CREATED:20241114T205749Z
LAST-MODIFIED:20250213T163934Z
UID:10000034-1738157400-1738166400@bclive.ca
SUMMARY:Regional Meeting for Presenters - South West/Metro Vancouver Region
DESCRIPTION:BC Live Performance Network is hosting a meeting for presenters in the South West/Metro Vancouver region on Wednesday\, January 29\, 2025\, from 1:30 pm to 4:00 pm in the Kraul Studio\, Level 4 at the Scotiabank Dance Centre\, 677 Davie St.\, Vancouver. The meeting offers an opportunity for presenters to meet\, network\, discuss hot topics\, and learn more about BC Live’s programs. \nRead the notes from the meeting here.  \nAGENDA: \n1:30pm – 1:45pm – Introductions\n1:45pm – 2:00pm – CPA Key Data Presentation and Q&A with Miriam Manley\, ED BC Live\n2:00pm – 2:30pm – Roundtable\, Update and Check-in\, sharing current successes and challenges\n2:30pm – 3:00pm – Other Business\n3:00pm – 3:15pm – Short Break\n3:15pm – 3:30pm – ATC & BC Live Block Booking Overview and Update with Petrice Brett\, Block-Booking Coordinator\, BC Live\n3:30pm – 4pm – Block Booking Conversation \nFollowing the regional meeting\, presenters are invited to attend the PuSH Industry Event (listed below). Presenters are not required to register for a PuSh Industry pass to attend. Space is limited. To reserve your spot\, visit this link. \nINDUSTRY EVENT\, off-PuSh\, featuring the work of 8 dance artists\n4:00 pm to 6:00 pm at the Dance Centre\nProduced in partnership with The Dance Centre\, Dance West Network offers a showcase featuring the work of eight BC-based dance artists. Artists include: \nCompaigni V’ni Dansi Society – La Mitchin di Mitchif \nDancers of Damelahamid – Raven Mother \nSophie Dow – Agrimony \nVidya Kotamraju – Maktub: Ashes To Alchemy \nJuolin Lee – Soup of Forgetfulness \nMascallDance – Lurch \nAnya Saugstad – Gravity in Your Eyes \nHelen Walkley – blocking
URL:https://bclive.ca/event/regional-meeting-for-presenters-south-west-metro-vancouver-region/
END:VEVENT
END:VCALENDAR